BEGIN:VCALENDAR
VERSION:2.0
PRODID:icalendar-ruby
CALSCALE:GREGORIAN
METHOD:PUBLISH
BEGIN:VEVENT
DTSTAMP:20260425T023458Z
UID:50-788081@lakeathensbaptist.com
DTSTART:20261020T230000Z
DTEND:20261021T010000Z
CLASS:PUBLIC
CREATED:20260424T210836
DESCRIPTION:Griefshare - Online
LAST-MODIFIED:20260424T210836
LOCATION:
SUMMARY:Griefshare - Online
URL;VALUE=URI:https://lakeathensbaptist.com/events/griefshare-online/2026-1
 0-20
ATTACH;FILENAME=Griefshare-Pic.png;FMTTYPE=image/png:https://dq5pwpg1q8ru0.
 cloudfront.net/2025/09/05/22/42/51/0b444a35-cf27-4eb4-ae60-4ebdf248d7c5/Gr
 iefshare-Pic.png
END:VEVENT
END:VCALENDAR
